BEGIN:VCALENDAR
PRODID:-//eluceo/ical//2.0/EN
VERSION:2.0
CALSCALE:GREGORIAN
BEGIN:VEVENT
UID:event-916
DTSTAMP:20260422T121604Z
SUMMARY:SHCRB&T/MFR De Palmpit GESLOTEN
DESCRIPTION:SHCRB&amp\;T/MFR De Palmpit gesloten i.v.m. Functie-overdracht 
 regiments Adjudant B&amp\;T.
DTSTART:20250625T100000Z
DTEND:20250625T210000Z
END:VEVENT
BEGIN:VTIMEZONE
TZID:UTC
BEGIN:STANDARD
DTSTART:20250625T100000
TZNAME:UTC
TZOFFSETTO:+0000
TZOFFSETFROM:+0000
END:STANDARD
END:VTIMEZONE
END:VCALENDAR
