BEGIN:VCALENDAR
PRODID:-//eluceo/ical//2.0/EN
VERSION:2.0
CALSCALE:GREGORIAN
BEGIN:VEVENT
UID:event-914
DTSTAMP:20260422T115432Z
SUMMARY:HCRB&T/MFR De Palmpit GESLOTEN
DESCRIPTION:In verband met Bevrijdingsdag is de HCRB&amp\;T/MFR De Palmpit 
 op maandag 5 mei gesloten.
DTSTART:20250504T220000Z
DTEND:20250505T215959Z
END:VEVENT
BEGIN:VTIMEZONE
TZID:UTC
BEGIN:STANDARD
DTSTART:20250504T220000
TZNAME:UTC
TZOFFSETTO:+0000
TZOFFSETFROM:+0000
END:STANDARD
END:VTIMEZONE
END:VCALENDAR
