BEGIN:VCALENDAR
PRODID:-//eluceo/ical//2.0/EN
VERSION:2.0
CALSCALE:GREGORIAN
BEGIN:VEVENT
UID:event-1014
DTSTAMP:20260422T115243Z
SUMMARY:Vergadering 240 Dncie
DESCRIPTION:Organisatie: Mw. van Dodewaard
DTSTART:20260217T090000Z
DTEND:20260217T150000Z
END:VEVENT
BEGIN:VTIMEZONE
TZID:UTC
BEGIN:STANDARD
DTSTART:20260217T090000
TZNAME:UTC
TZOFFSETTO:+0000
TZOFFSETFROM:+0000
END:STANDARD
END:VTIMEZONE
END:VCALENDAR
