BEGIN:VCALENDAR
PRODID:-//eluceo/ical//2.0/EN
VERSION:2.0
CALSCALE:GREGORIAN
BEGIN:VEVENT
UID:event-1004
DTSTAMP:20260422T115147Z
SUMMARY:Regimentsraad
DESCRIPTION:Aansluitebnd BBQ d.z.v. 43 Bevocie
DTSTART:20260709T120000Z
DTEND:20260709T200000Z
END:VEVENT
BEGIN:VTIMEZONE
TZID:UTC
BEGIN:STANDARD
DTSTART:20260709T120000
TZNAME:UTC
TZOFFSETTO:+0000
TZOFFSETFROM:+0000
END:STANDARD
END:VTIMEZONE
END:VCALENDAR
